BEGIN:VCALENDAR
VERSION:2.0
PRODID:KKTIX
CALSCALE:GREGORIAN
METHOD:PUBLISH
BEGIN:VTIMEZONE
TZID:Asia/Taipei
END:VTIMEZONE
BEGIN:VEVENT
DTSTAMP:20260424T165637Z
UID:901e51c3-e75c-48d3-aed2-64bc9e4bc212
DTSTART:20260606T063000Z
DTEND:20260606T063000Z
CLASS:PUBLIC
DESCRIPTION:https://atc-twn.kktix.cc/events/kesg5ad
LOCATION: (台北市中正區市民大道三段2號5樓) Clapper Studio
SUMMARY:【下午場】Lia Asia Tour 2026 in Taipei
END:VEVENT
END:VCALENDAR
